BEGIN:VCALENDAR
VERSION:2.0
PRODID:-//Seminary of the Southwest - ECPv6.15.20//NONSGML v1.0//EN
CALSCALE:GREGORIAN
METHOD:PUBLISH
X-WR-CALNAME:Seminary of the Southwest
X-ORIGINAL-URL:https://ssw.edu
X-WR-CALDESC:Events for Seminary of the Southwest
REFRESH-INTERVAL;VALUE=DURATION:PT1H
X-Robots-Tag:noindex
X-PUBLISHED-TTL:PT1H
BEGIN:VTIMEZONE
TZID:America/Chicago
BEGIN:DAYLIGHT
TZOFFSETFROM:-0600
TZOFFSETTO:-0500
TZNAME:CDT
DTSTART:20240310T080000
END:DAYLIGHT
BEGIN:STANDARD
TZOFFSETFROM:-0500
TZOFFSETTO:-0600
TZNAME:CST
DTSTART:20241103T070000
END:STANDARD
BEGIN:DAYLIGHT
TZOFFSETFROM:-0600
TZOFFSETTO:-0500
TZNAME:CDT
DTSTART:20250309T080000
END:DAYLIGHT
BEGIN:STANDARD
TZOFFSETFROM:-0500
TZOFFSETTO:-0600
TZNAME:CST
DTSTART:20251102T070000
END:STANDARD
BEGIN:DAYLIGHT
TZOFFSETFROM:-0600
TZOFFSETTO:-0500
TZNAME:CDT
DTSTART:20260308T080000
END:DAYLIGHT
BEGIN:STANDARD
TZOFFSETFROM:-0500
TZOFFSETTO:-0600
TZNAME:CST
DTSTART:20261101T070000
END:STANDARD
BEGIN:DAYLIGHT
TZOFFSETFROM:-0600
TZOFFSETTO:-0500
TZNAME:CDT
DTSTART:20270314T080000
END:DAYLIGHT
BEGIN:STANDARD
TZOFFSETFROM:-0500
TZOFFSETTO:-0600
TZNAME:CST
DTSTART:20271107T070000
END:STANDARD
END:VTIMEZONE
BEGIN:VEVENT
DTSTART;VALUE=DATE:20251213
DTEND;VALUE=DATE:20260102
DTSTAMP:20260419T065019
CREATED:20251210T160339Z
LAST-MODIFIED:20251210T160411Z
UID:28066-1765584000-1767311999@ssw.edu
SUMMARY:Southwest Closed for the Holidays
DESCRIPTION:Seminary of the Southwest will be closed for the holidays from December 12\, 2025 at 1pm CT thru January 1\, 2026. \nOffices reopen on Friday\, January 2\, 2026. \nHappy Holidays! \n 
URL:https://ssw.edu/event/southwest-closed-for-the-holidays/
LOCATION:Seminary of the Southwest\, 501 East 32nd Street\, Austin\, TX\, 78705\, United States
END:VEVENT
BEGIN:VEVENT
DTSTART;TZID=America/Chicago:20260112T113000
DTEND;TZID=America/Chicago:20260112T133000
DTSTAMP:20260419T065019
CREATED:20251111T221542Z
LAST-MODIFIED:20251113T220355Z
UID:27992-1768217400-1768224600@ssw.edu
SUMMARY:Monday Connection with Bobby Jenkins
DESCRIPTION:Join us for lunch and a talk by Bobby Jenkins at the next Monday Connection! \nMonday\, January 12\, 2026 \n11:30 a.m. – 1:00 p.m. \nWeeks Center \nRSVP below by January 5\, 2026 \n\n  \nBobby Jenkins is the owner of ABC Home & Commercial Services\, a Texas-based\, family-owned company founded in 1949\, with offices in several Texas locations\, including Austin\, San Antonio\, College Station\, Bell County\, Corpus Christi\, the Rio Grande Valley\, and Waco. ABC employs over 1\,100 people and offers a broad range of services\, such as pest and termite control\, lawn care\, landscaping\, tree trimming\, air conditioning and heating\, plumbing\, electrical work\, pool cleaning and repair\, handyman services\, window cleaning\, power washing\, water quality and appliance repair. \nBobby graduated from Texas A&M University with a degree in Business Management. Throughout his career\, Bobby has been deeply involved in various leadership roles throughout the community: \n● Current Roles: \n○ Chair of the Central Texas Regional Mobility Authority \n○ Immediate Past Chair of the Association of Former Students Texas A&M \n○ Chair of the Sudden Unexplained Death in Childhood Foundation \n○ Chairman of the Professional Pest Management Alliance \n○ Co-founder and board member of Recognize Good \n○ Chair of Citizens Against Lawsuit Abuse \n○ Chair of The Foundation for Better Business \n○ Board member of the Alzheimer’s Texas Association \n○ Board member E3 Alliance \n○ Board member of the Moss Pieratt Foundation \n○ Board member of The Friends of the ABC Kite Festival Foundation \n○ Board member of United Way \n○ Executive Committee Greater Austin Chamber of Commerce \n○ Co-chair of Caritas of Austin’s capital campaign \n○ Trustee for the College For All Texans Foundation \n○ Member of the executive committee of the Texas Business Leadership Council \n● Past Roles: \n○ Chair of the Austin Chamber of Commerce \n○ Chair of the Texas Higher Education Coordinating Board \n○ President of both the Texas and National Pest Management Associations \n○ Chair of the Better Business Bureau \n○ Chair American Heart Association \n○ Co-Chair Bond Oversight Committee AISD \n○ Co-Chair Heart Walk American Heart Association \n○ Co-chair of the United Way Annual Campaign \nBobby is a passionate sports enthusiast who enjoys tennis\, golf\, cycling\, and watching Texas A&M sports. He has been happily married to his wife\, Jan\, for 43 years. Together\, they have three children: Jessica Pieratt\, Chelsea Myers\, and Bo\, as well as eight beloved grandchildren: Moss\, Madeline\, Frances\, Robby\, Morrison\, Belle\, and Laurel.
URL:https://ssw.edu/event/monday-connection-with-bobby-jenkins/
END:VEVENT
BEGIN:VEVENT
DTSTART;TZID=America/Chicago:20260129T173000
DTEND;TZID=America/Chicago:20260129T193000
DTSTAMP:20260419T065019
CREATED:20260113T181814Z
LAST-MODIFIED:20260114T171136Z
UID:28086-1769707800-1769715000@ssw.edu
SUMMARY:Commissioning of the Rt. Rev. Diane Jardine Bruce as Interim Dean and President
DESCRIPTION:The Rt. Rev. Diane M. Jardine Bruce\nJoin Southwest on Thursday\, January 29\, 2026 for the commissioning of the Rt. Rev. Diane Jardine Bruce as Interim Dean and President of Seminary of the Southwest. \n5:30pm Eucharist in Christ Chapel with “Dinner by the Bite” Reception to follow in the Howell Dining Hall. \nPlease RSVP here – childcare will be provided from 5:00pm-8:00pm.\nEucharist will be live-streamed on the Seminary’s website and Facebook page.
URL:https://ssw.edu/event/commissioning-of-the-rt-rev-diane-jardine-bruce-as-interim-dean-and-president/
LOCATION:Christ Chapel\, 501 E. 32nd Street\, Austin\, TX\, 78705\, United States
END:VEVENT
END:VCALENDAR